BEGIN:VCALENDAR
VERSION:2.0
PRODID:-//wp-events-plugin.com//7.2.3.1//EN
TZID:Europe/Paris
X-WR-TIMEZONE:Europe/Paris
BEGIN:VEVENT
UID:17@handicap-services-alister.com
DTSTART;TZID=Europe/Paris:20260528T180000
DTEND;TZID=Europe/Paris:20260528T203000
DTSTAMP:20260409T074653Z
URL:https://handicap-services-alister.com/evenements/stammtisch-des-aidant
 s-mulhouse-3
SUMMARY:Stammtisch des aidants Mulhouse
DESCRIPTION:QUOI ?\nUn moment d’échanges autour d’un repas convivial.\
 nPOUR QUI ?\nLes proches aidants des personnes en situation de handicap qu
 ’elles soient ou non accompagnées par Handicap Services Alister.\nOÙ?\
 n115 avenue de la 1ère Division Blindée\n68100 Mulhouse\nCOMMENT ?\nInsc
 riptions au 03 89 44 27 44 ou accueil@alister-autonomie.fr
CATEGORIES:Mulhouse
LOCATION:Accueil de jour Évasion Mulhouse\, 115 Av. de la 1ère Division B
 lindée\, 68100 Mulhouse
X-APPLE-STRUCTURED-LOCATION;VALUE=URI;X-ADDRESS=115 Av. de la 1ère Divisio
 n Blindée\, 68100 Mulhouse\, France;X-APPLE-RADIUS=100;X-TITLE=Accueil de
  jour Évasion Mulhouse:geo:0,0
END:VEVENT
BEGIN:VTIMEZONE
TZID:Europe/Paris
X-LIC-LOCATION:Europe/Paris
BEGIN:DAYLIGHT
DTSTART:20260329T030000
TZOFFSETFROM:+0100
TZOFFSETTO:+0200
TZNAME:CEST
END:DAYLIGHT
END:VTIMEZONE
END:VCALENDAR